Workbook

Sheet Draw Request
A1: P8 CAPITAL ADVISORS New Construction Scope & Draw Schedule
A4: Property address: | F4: Proposed
E5: # of units
E6: Square footage
E7: # of bedrooms
E8: # of bathrooms
A10: Overall Description of Work
A11: Include a description of construction method as well as the quality/type of the interior finishes
A17: Draw Schedule
A18: Row | B18: Item of Work | C18: Total Budgeted Cost | D18: Amount Previously Spent | E18: Cost Remaining | G18: Row
A19: 0 | B19: General | G19: =A19 -> 0
A20: =A19+1 -> 1 | B20: Architectural fees | E20: =IF(C20="","",MAX(C20-D20,0)) | G20: =A20 -> 1
A21: =A20+1 -> 2 | B21: Engineering fees | E21: =IF(C21="","",MAX(C21-D21,0)) | G21: =A21 -> 2
A22: =A21+1 -> 3 | B22: Survey fees | E22: =IF(C22="","",MAX(C22-D22,0)) | G22: =A22 -> 3
A23: =A22+1 -> 4 | B23: Permit fees | E23: =IF(C23="","",MAX(C23-D23,0)) | G23: =A23 -> 4
A24: =A23+1 -> 5 | B24: Impact fees | E24: =IF(C24="","",MAX(C24-D24,0)) | G24: =A24 -> 5
A25: =A24+1 -> 6 | B25: Utility connection fees | E25: =IF(C25="","",MAX(C25-D25,0)) | G25: =A25 -> 6
A26: =A25+1 -> 7 | B26: Site | E26: =IF(C26="","",MAX(C26-D26,0)) | G26: =A26 -> 7
A27: =A26+1 -> 8 | B27: Clearing / demolition | E27: =IF(C27="","",MAX(C27-D27,0)) | G27: =A27 -> 8
A28: =A27+1 -> 9 | B28: Excavation | E28: =IF(C28="","",MAX(C28-D28,0)) | G28: =A28 -> 9
A29: =A28+1 -> 10 | B29: Soil import/export | E29: =IF(C29="","",MAX(C29-D29,0)) | G29: =A29 -> 10
A30: =A29+1 -> 11 | B30: Grading | E30: =IF(C30="","",MAX(C30-D30,0)) | G30: =A30 -> 11
A31: =A30+1 -> 12 | B31: Erosion control | E31: =IF(C31="","",MAX(C31-D31,0)) | G31: =A31 -> 12
... A123: =A122+1 -> 104 | B123: General conditions | E123: =IF(C123="","",MAX(C123-D123,0)) | G123: =A123 -> 104
C124: =SUM(C20:C123) -> 0 | D124: =SUM(D20:D123) -> 0 | E124: =C124-D124 -> 0
A125: Borrower's Certification
B126: Terms and Requirements - I acknowledge that:
B127: (1) Construction funds will only be disbursed for completed work (materials purchases or contractor deposits must be advance by the borrower).
B128: (2) Construction funds will only be disbursed in accordance with the values listed above.
B129: (3) Any changes to project the budget or this draw schedule must be approved, in advance, by the Lender.
B130: Borrower Signature

Sheet Sheet1
A1: itemNumber | B1: budgetGroupLk | C1: itemDescription | D1: priorCost | E1: laborCost | F1: materialsCost | G1: totalCost
A2: ='Draw Request'!A19 -> 0 | B2: 100 | C2: sectionDivider | D2: ='Draw Request'!D19 -> 0 | E2: 0 | F2: 0 | G2: ='Draw Request'!C19 -> 0
A3: ='Draw Request'!A20 -> 1 | B3: 100 | C3: ='Draw Request'!B20 -> Architectural fees | D3: ='Draw Request'!D20 -> 0 | E3: 0 | F3: 0 | G3: ='Draw Request'!C20 -> 0
A4: ='Draw Request'!A21 -> 2 | B4: 100 | C4: ='Draw Request'!B21 -> Engineering fees | D4: ='Draw Request'!D21 -> 0 | E4: 0 | F4: 0 | G4: ='Draw Request'!C21 -> 0
A5: ='Draw Request'!A22 -> 3 | B5: 100 | C5: ='Draw Request'!B22 -> Survey fees | D5: ='Draw Request'!D22 -> 0 | E5: 0 | F5: 0 | G5: ='Draw Request'!C22 -> 0
A6: ='Draw Request'!A23 -> 4 | B6: 100 | C6: ='Draw Request'!B23 -> Permit fees | D6: ='Draw Request'!D23 -> 0 | E6: 0 | F6: 0 | G6: ='Draw Request'!C23 -> 0
A7: ='Draw Request'!A24 -> 5 | B7: 100 | C7: ='Draw Request'!B24 -> Impact fees | D7: ='Draw Request'!D24 -> 0 | E7: 0 | F7: 0 | G7: ='Draw Request'!C24 -> 0
A8: ='Draw Request'!A25 -> 6 | B8: 100 | C8: ='Draw Request'!B25 -> Utility connection fees | D8: ='Draw Request'!D25 -> 0 | E8: 0 | F8: 0 | G8: ='Draw Request'!C25 -> 0
A9: ='Draw Request'!A26 -> 7 | B9: 200 | C9: sectionDivider | D9: ='Draw Request'!D26 -> 0 | E9: 0 | F9: 0 | G9: ='Draw Request'!C26 -> 0
A10: ='Draw Request'!A27 -> 8 | B10: 200 | C10: ='Draw Request'!B27 -> Clearing / demolition | D10: ='Draw Request'!D27 -> 0 | E10: 0 | F10: 0 | G10: ='Draw Request'!C27 -> 0
A11: ='Draw Request'!A28 -> 9 | B11: 200 | C11: ='Draw Request'!B28 -> Excavation | D11: ='Draw Request'!D28 -> 0 | E11: 0 | F11: 0 | G11: ='Draw Request'!C28 -> 0
A12: ='Draw Request'!A29 -> 10 | B12: 200 | C12: ='Draw Request'!B29 -> Soil import/export | D12: ='Draw Request'!D29 -> 0 | E12: 0 | F12: 0 | G12: ='Draw Request'!C29 -> 0
A13: ='Draw Request'!A30 -> 11 | B13: 200 | C13: ='Draw Request'!B30 -> Grading | D13: ='Draw Request'!D30 -> 0 | E13: 0 | F13: 0 | G13: ='Draw Request'!C30 -> 0
A14: ='Draw Request'!A31 -> 12 | B14: 200 | C14: ='Draw Request'!B31 -> Erosion control | D14: ='Draw Request'!D31 -> 0 | E14: 0 | F14: 0 | G14: ='Draw Request'!C31 -> 0
A15: ='Draw Request'!A32 -> 13 | B15: 200 | C15: ='Draw Request'!B32 -> Fencing | D15: ='Draw Request'!D32 -> 0 | E15: 0 | F15: 0 | G15: ='Draw Request'!C32 -> 0
A16: ='Draw Request'!A33 -> 14 | B16: 200 | C16: ='Draw Request'!B33 -> Dumpster | D16: ='Draw Request'!D33 -> 0 | E16: 0 | F16: 0 | G16: ='Draw Request'!C33 -> 0
A17: ='Draw Request'!A34 -> 15 | B17: 200 | C17: ='Draw Request'!B34 -> Temp utilities | D17: ='Draw Request'!D34 -> 0 | E17: 0 | F17: 0 | G17: ='Draw Request'!C34 -> 0
A18: ='Draw Request'!A35 -> 16 | B18: 200 | C18: ='Draw Request'!B35 -> Water connection* | D18: ='Draw Request'!D35 -> 0 | E18: 0 | F18: 0 | G18: ='Draw Request'!C35 -> 0
A19: ='Draw Request'!A36 -> 17 | B19: 200 | C19: ='Draw Request'!B36 -> Well* | D19: ='Draw Request'!D36 -> 0 | E19: 0 | F19: 0 | G19: ='Draw Request'!C36 -> 0
A20: ='Draw Request'!A37 -> 18 | B20: 200 | C20: ='Draw Request'!B37 -> Sewer connection* | D20: ='Draw Request'!D37 -> 0 | E20: 0 | F20: 0 | G20: ='Draw Request'!C37 -> 0
A21: ='Draw Request'!A38 -> 19 | B21: 200 | C21: ='Draw Request'!B38 -> Septic system* | D21: ='Draw Request'!D38 -> 0 | E21: 0 | F21: 0 | G21: ='Draw Request'!C38 -> 0
A22: ='Draw Request'!A39 -> 20 | B22: 200 | C22: ='Draw Request'!B39 -> Gas connection | D22: ='Draw Request'!D39 -> 0 | E22: 0 | F22: 0 | G22: ='Draw Request'!C39 -> 0
A23: ='Draw Request'!A40 -> 21 | B23: 300 | C23: sectionDivider | D23: ='Draw Request'!D40 -> 0 | E23: 0 | F23: 0 | G23: ='Draw Request'!C40 -> 0
A24: ='Draw Request'!A41 -> 22 | B24: 300 | C24: ='Draw Request'!B41 -> Footings / stem wall* | D24: ='Draw Request'!D41 -> 0 | E24: 0 | F24: 0 | G24: ='Draw Request'!C41 -> 0
A25: ='Draw Request'!A42 -> 23 | B25: 300 | C25: ='Draw Request'!B42 -> Foundation slab* | D25: ='Draw Request'!D42 -> 0 | E25: 0 | F25: 0 | G25: ='Draw Request'!C42 -> 0
A26: ='Draw Request'!A43 -> 24 | B26: 300 | C26: ='Draw Request'!B43 -> In-slab utilities* | D26: ='Draw Request'!D43 -> 0 | E26: 0 | F26: 0 | G26: ='Draw Request'!C43 -> 0
A27: ='Draw Request'!A44 -> 25 | B27: 400 | C27: sectionDivider | D27: ='Draw Request'!D44 -> 0 | E27: 0 | F27: 0 | G27: ='Draw Request'!C44 -> 0
A28: ='Draw Request'!A45 -> 26 | B28: 400 | C28: ='Draw Request'!B45 -> Exterior walls * | D28: ='Draw Request'!D45 -> 0 | E28: 0 | F28: 0 | G28: ='Draw Request'!C45 -> 0
A29: ='Draw Request'!A46 -> 27 | B29: 400 | C29: ='Draw Request'!B46 -> Framing* | D29: ='Draw Request'!D46 -> 0 | E29: 0 | F29: 0 | G29: ='Draw Request'!C46 -> 0
A30: ='Draw Request'!A47 -> 28 | B30: 400 | C30: ='Draw Request'!B47 -> Roof trusses | D30: ='Draw Request'!D47 -> 0 | E30: 0 | F30: 0 | G30: ='Draw Request'!C47 -> 0
A31: ='Draw Request'!A48 -> 29 | B31: 400 | C31: ='Draw Request'!B48 -> Roofing* | D31: ='Draw Request'!D48 -> 0 | E31: 0 | F31: 0 | G31: ='Draw Request'!C48 -> 0
A32: ='Draw Request'!A49 -> 30 | B32: 400 | C32: ='Draw Request'!B49 -> Windows | D32: ='Draw Request'!D49 -> 0 | E32: 0 | F32: 0 | G32: ='Draw Request'!C49 -> 0
A33: ='Draw Request'!A50 -> 31 | B33: 400 | C33: ='Draw Request'!B50 -> Exterior doors | D33: ='Draw Request'!D50 -> 0 | E33: 0 | F33: 0 | G33: ='Draw Request'!C50 -> 0
A34: ='Draw Request'!A51 -> 32 | B34: 500 | C34: sectionDivider | D34: ='Draw Request'!D51 -> 0 | E34: 0 | F34: 0 | G34: ='Draw Request'!C51 -> 0
A35: ='Draw Request'!A52 -> 33 | B35: 500 | C35: ='Draw Request'!B52 -> Siding | D35: ='Draw Request'!D52 -> 0 | E35: 0 | F35: 0 | G35: ='Draw Request'!C52 -> 0
A36: ='Draw Request'!A53 -> 34 | B36: 500 | C36: ='Draw Request'!B53 -> Stucco | D36: ='Draw Request'!D53 -> 0 | E36: 0 | F36: 0 | G36: ='Draw Request'!C53 -> 0
A37: ='Draw Request'!A54 -> 35 | B37: 500 | C37: ='Draw Request'!B54 -> Paint | D37: ='Draw Request'!D54 -> 0 | E37: 0 | F37: 0 | G37: ='Draw Request'!C54 -> 0
A38: ='Draw Request'!A55 -> 36 | B38: 500 | C38: ='Draw Request'!B55 -> Stone or masonry | D38: ='Draw Request'!D55 -> 0 | E38: 0 | F38: 0 | G38: ='Draw Request'!C55 -> 0
A39: ='Draw Request'!A56 -> 37 | B39: 500 | C39: ='Draw Request'!B56 -> Soffits and fascia | D39: ='Draw Request'!D56 -> 0 | E39: 0 | F39: 0 | G39: ='Draw Request'!C56 -> 0
A40: ='Draw Request'!A57 -> 38 | B40: 500 | C40: ='Draw Request'!B57 -> Gutters | D40: ='Draw Request'!D57 -> 0 | E40: 0 | F40: 0 | G40: ='Draw Request'!C57 -> 0
...
